BEGIN:VCALENDAR
VERSION:2.0
PRODID:-//Aja Yard - ECPv6.15.20//NONSGML v1.0//EN
CALSCALE:GREGORIAN
METHOD:PUBLISH
X-ORIGINAL-URL:https://ajayard.com
X-WR-CALDESC:Events for Aja Yard
REFRESH-INTERVAL;VALUE=DURATION:PT1H
X-Robots-Tag:noindex
X-PUBLISHED-TTL:PT1H
BEGIN:VTIMEZONE
TZID:UTC
BEGIN:STANDARD
TZOFFSETFROM:+0000
TZOFFSETTO:+0000
TZNAME:UTC
DTSTART:20250101T000000
END:STANDARD
END:VTIMEZONE
BEGIN:VEVENT
DTSTART;TZID=UTC:20260430T170000
DTEND;TZID=UTC:20260430T230000
DTSTAMP:20260419T202730
CREATED:20260417T130749Z
LAST-MODIFIED:20260418T095315Z
UID:3526-1777568400-1777590000@ajayard.com
SUMMARY:Fred Wesley / James Brown (Funk and Soul)
DESCRIPTION:Continuing series of Listening Parties: Deeper and personal connection with music.\nEvents that feature recorded music\, occasional live performance\, with conversations\namong composers\, artists\, scholars\, aficionados\, and audiences as they come together to\nsurvey and reimagine the landscape of contemporary music and art by listening to —\ndiscussing and commenting — both recordings and live performances.\nListen to vinyl LPs\, CDs\, Cassettes\, Playlists —music\, with the people who made them\,\nlisten to them\, or share them.\nA guided conversation led by a creative “panelist” or MC\nEach event is complete with themed food and cocktails/drinks\n sits somewhere between a gig\, a gallery installation\, and a communal ritual\nListening Party\n accessible music – vinyl\, CDs\, cassettes\, playlist\, thematic; occasional live\n means for listeners to converse and comment\n links to promotion\nScheduled time with music lovers and listen to a given music/theme; let artists\, producers\nand others involved to post\, present insights into the process\, what they are hearing.\nIn a listening-led context that slowdown becomes the point. Creating space for deeper\nengagement\, shared focus\, and a more meaningful relationship with sound.\nBoth communal and personal\, allows to slow down as a person\, as a DJ\, as a curator\, as a\nmusic lover — actually appreciate the music\nMusic: as sense of community between the artist/creator\, sound/visceral\, and the\naudience.\nListen to vinyl LPs\, CDs\, Cassettes\, Playlists —music\, with the people who made them\,\nlisten to them\, or share them. \nCulinary Program\nGourmet Sacred Soul Kitchen Therapy\, Led by Chef Pamela Pierre Brown\nFood Truck Integration\, featured truck(s) per event. Cuisine aligned with the music theme\nFeatures\n Vegan and wellness-forward menu offerings\n Signature dishes aligned with each night’s theme\n Brunch and cultural food experiences\n Drinks and cocktails\n Premium food options for ticketed guests
URL:https://ajayard.com/event/fred-wesley-james-brown-funk-and-soul/
CATEGORIES:upcoming
ATTACH;FMTTYPE=image/jpeg:https://ajayard.com/wp-content/uploads/2025/11/photo_rent_the_space_02.jpg
END:VEVENT
BEGIN:VEVENT
DTSTART;TZID=UTC:20260501T170000
DTEND;TZID=UTC:20260501T230000
DTSTAMP:20260419T202730
CREATED:20260417T131215Z
LAST-MODIFIED:20260418T100542Z
UID:3531-1777654800-1777676400@ajayard.com
SUMMARY:The Skatalites (Ska & Jazz Fusion)
DESCRIPTION:Continuing series of Listening Parties: Deeper and personal connection with music.\nEvents that feature recorded music\, occasional live performance\, with conversations\namong composers\, artists\, scholars\, aficionados\, and audiences as they come together to\nsurvey and reimagine the landscape of contemporary music and art by listening to —\ndiscussing and commenting — both recordings and live performances.\nListen to vinyl LPs\, CDs\, Cassettes\, Playlists —music\, with the people who made them\,\nlisten to them\, or share them.\nA guided conversation led by a creative “panelist” or MC\nEach event is complete with themed food and cocktails/drinks\n sits somewhere between a gig\, a gallery installation\, and a communal ritual\nListening Party\n accessible music – vinyl\, CDs\, cassettes\, playlist\, thematic; occasional live\n means for listeners to converse and comment\n links to promotion\nScheduled time with music lovers and listen to a given music/theme; let artists\, producers\nand others involved to post\, present insights into the process\, what they are hearing.\nIn a listening-led context that slowdown becomes the point. Creating space for deeper\nengagement\, shared focus\, and a more meaningful relationship with sound.\nBoth communal and personal\, allows to slow down as a person\, as a DJ\, as a curator\, as a\nmusic lover — actually appreciate the music\nMusic: as sense of community between the artist/creator\, sound/visceral\, and the\naudience.\nListen to vinyl LPs\, CDs\, Cassettes\, Playlists —music\, with the people who made them\,\nlisten to them\, or share them. \nCulinary Program\nGourmet Sacred Soul Kitchen Therapy\, Led by Chef Pamela Pierre Brown\nFood Truck Integration\, featured truck(s) per event. Cuisine aligned with the music theme\nFeatures\n Vegan and wellness-forward menu offerings\n Signature dishes aligned with each night’s theme\n Brunch and cultural food experiences\n Drinks and cocktails\n Premium food options for ticketed guests
URL:https://ajayard.com/event/the-skatalites-ska-jazz-fusion/
CATEGORIES:upcoming
ATTACH;FMTTYPE=image/jpeg:https://ajayard.com/wp-content/uploads/2025/11/img-weddings-1000x560-1.jpg
END:VEVENT
BEGIN:VEVENT
DTSTART;TZID=UTC:20260502T170000
DTEND;TZID=UTC:20260502T230000
DTSTAMP:20260419T202730
CREATED:20260417T131434Z
LAST-MODIFIED:20260418T095244Z
UID:3540-1777741200-1777762800@ajayard.com
SUMMARY:Morgan Heritage (Generations of Modern Reggae)
DESCRIPTION:Continuing series of Listening Parties: Deeper and personal connection with music.\nEvents that feature recorded music\, occasional live performance\, with conversations\namong composers\, artists\, scholars\, aficionados\, and audiences as they come together to\nsurvey and reimagine the landscape of contemporary music and art by listening to —\ndiscussing and commenting — both recordings and live performances.\nListen to vinyl LPs\, CDs\, Cassettes\, Playlists —music\, with the people who made them\,\nlisten to them\, or share them.\nA guided conversation led by a creative “panelist” or MC\nEach event is complete with themed food and cocktails/drinks\n sits somewhere between a gig\, a gallery installation\, and a communal ritual\nListening Party\n accessible music – vinyl\, CDs\, cassettes\, playlist\, thematic; occasional live\n means for listeners to converse and comment\n links to promotion\nScheduled time with music lovers and listen to a given music/theme; let artists\, producers\nand others involved to post\, present insights into the process\, what they are hearing.\nIn a listening-led context that slowdown becomes the point. Creating space for deeper\nengagement\, shared focus\, and a more meaningful relationship with sound.\nBoth communal and personal\, allows to slow down as a person\, as a DJ\, as a curator\, as a\nmusic lover — actually appreciate the music\nMusic: as sense of community between the artist/creator\, sound/visceral\, and the\naudience.\nListen to vinyl LPs\, CDs\, Cassettes\, Playlists —music\, with the people who made them\,\nlisten to them\, or share them. \nCulinary Program\nGourmet Sacred Soul Kitchen Therapy\, Led by Chef Pamela Pierre Brown\nFood Truck Integration\, featured truck(s) per event. Cuisine aligned with the music theme\nFeatures\n Vegan and wellness-forward menu offerings\n Signature dishes aligned with each night’s theme\n Brunch and cultural food experiences\n Drinks and cocktails\n Premium food options for ticketed guests
URL:https://ajayard.com/event/morgan-heritage-generations-of-modern-reggae/
CATEGORIES:upcoming
ATTACH;FMTTYPE=image/jpeg:https://ajayard.com/wp-content/uploads/2025/11/MT_0038-1024x684-1.jpg
END:VEVENT
BEGIN:VEVENT
DTSTART;TZID=UTC:20260503T170000
DTEND;TZID=UTC:20260503T230000
DTSTAMP:20260419T202730
CREATED:20260417T132120Z
LAST-MODIFIED:20260418T100631Z
UID:3545-1777827600-1777849200@ajayard.com
SUMMARY:Grand Finale: “A Taste of New Orleans\, Caribbean & Africa”
DESCRIPTION:Continuing series of Listening Parties: Deeper and personal connection with music.\nEvents that feature recorded music\, occasional live performance\, with conversations\namong composers\, artists\, scholars\, aficionados\, and audiences as they come together to\nsurvey and reimagine the landscape of contemporary music and art by listening to —\ndiscussing and commenting — both recordings and live performances.\nListen to vinyl LPs\, CDs\, Cassettes\, Playlists —music\, with the people who made them\,\nlisten to them\, or share them.\nA guided conversation led by a creative “panelist” or MC\nEach event is complete with themed food and cocktails/drinks\n sits somewhere between a gig\, a gallery installation\, and a communal ritual\nListening Party\n accessible music – vinyl\, CDs\, cassettes\, playlist\, thematic; occasional live\n means for listeners to converse and comment\n links to promotion\nScheduled time with music lovers and listen to a given music/theme; let artists\, producers\nand others involved to post\, present insights into the process\, what they are hearing.\nIn a listening-led context that slowdown becomes the point. Creating space for deeper\nengagement\, shared focus\, and a more meaningful relationship with sound.\nBoth communal and personal\, allows to slow down as a person\, as a DJ\, as a curator\, as a\nmusic lover — actually appreciate the music\nMusic: as sense of community between the artist/creator\, sound/visceral\, and the\naudience.\nListen to vinyl LPs\, CDs\, Cassettes\, Playlists —music\, with the people who made them\,\nlisten to them\, or share them. \nCulinary Program\nGourmet Sacred Soul Kitchen Therapy\, Led by Chef Pamela Pierre Brown\nFood Truck Integration\, featured truck(s) per event. Cuisine aligned with the music theme\nFeatures\n Vegan and wellness-forward menu offerings\n Signature dishes aligned with each night’s theme\n Brunch and cultural food experiences\n Drinks and cocktails\n Premium food options for ticketed guests
URL:https://ajayard.com/event/grand-finale-a-taste-of-new-orleans-caribbean-africa/
CATEGORIES:upcoming
ATTACH;FMTTYPE=image/jpeg:https://ajayard.com/wp-content/uploads/2025/11/img-member-757x560-1.jpg
END:VEVENT
END:VCALENDAR